BEGIN:VCALENDAR
VERSION:2.0
PRODID:-//Tukios.com/
BEGIN:VEVENT
UID:be458fff-b01d-40b3-9a0a-43359909548e@www.dsofuneral.com
DTSTAMP:20260423T213954Z
DTSTART:20260501T160000Z
DTEND:20260501T170000Z
SUMMARY:Prayer Service
DESCRIPTION:
URL:https://www.dsofuneral.com/obituaries/robert-lyle-kelling
LOCATION:State Street Chapel of Dennis-Steffel-Omtvedt Funeral and 
	Cremation Service 109 3rd Street Northeast  Waseca MN 56093
GEO:44.078173;-93.504886
END:VEVENT
END:VCALENDAR