BEGIN:VCALENDAR
VERSION:2.0
PRODID:-//Tukios.com/
BEGIN:VEVENT
UID:0ca21ccb-388c-4375-9ebe-7790882542ba@www.dsofuneral.com
DTSTAMP:20260423T213617Z
DTSTART:20260501T150000Z
DTEND:20260501T160000Z
SUMMARY:Visitation
DESCRIPTION:
URL:https://www.dsofuneral.com/obituaries/robert-lyle-kelling
LOCATION: 711 N State St  Waseca MN 56093
GEO:44.0846881;-93.507808
END:VEVENT
END:VCALENDAR