BEGIN:VCALENDAR
VERSION:2.0
PRODID:-//Tukios.com/
BEGIN:VEVENT
UID:c44de17c-26d0-40e6-b073-94d029154934@www.dsofuneral.com
DTSTAMP:20260419T181600Z
DTSTART:20260423T160000Z
DTEND:20260423T170000Z
SUMMARY:Memorial Service
DESCRIPTION:
URL:https://www.dsofuneral.com/obituaries/geraldine-lienke
LOCATION: 1891 321st Ave  Janesville MN 56048
GEO:44.023485;-93.729364
END:VEVENT
END:VCALENDAR