BEGIN:VCALENDAR
VERSION:2.0
PRODID:-//Tukios.com/
BEGIN:VEVENT
UID:57025cb1-f0bd-4955-8ee1-cccebb79724e@www.dsofuneral.com
DTSTAMP:20260419T181651Z
DTSTART:20260423T140000Z
DTEND:20260423T160000Z
SUMMARY:Visitation
DESCRIPTION:
URL:https://www.dsofuneral.com/obituaries/geraldine-lienke
LOCATION: 1891 321st Ave  Janesville MN 56048
GEO:44.023485;-93.729364
END:VEVENT
END:VCALENDAR