BEGIN:VCALENDAR
VERSION:2.0
PRODID:-//Tukios.com/
BEGIN:VEVENT
UID:6dd9f518-1576-445c-b49e-6d8e925d56c6@www.dsofuneral.com
DTSTAMP:20260421T180600Z
DTSTART:20260425T150000Z
DTEND:20260425T180000Z
SUMMARY:Visitation
DESCRIPTION:
URL:https://www.dsofuneral.com/obituaries/dorothy-clayton
LOCATION: 31184 Wilton River Rd  Waseca MN 56093
GEO:44.0102621;-93.5336238
END:VEVENT
END:VCALENDAR