BEGIN:VCALENDAR
VERSION:2.0
PRODID:-//Tukios.com/
BEGIN:VEVENT
UID:e962eb37-d934-4683-80b4-0a4022b04e7b@www.dsofuneral.com
DTSTAMP:20260421T180421Z
DTSTART:20260425T180000Z
DTEND:20260425T190000Z
SUMMARY:Funeral Service
DESCRIPTION:
URL:https://www.dsofuneral.com/obituaries/dorothy-clayton
LOCATION: 31184 Wilton River Rd  Waseca MN 56093
GEO:44.0102621;-93.5336238
END:VEVENT
END:VCALENDAR