BEGIN:VCALENDAR
VERSION:2.0
PRODID:-//Tukios.com/
BEGIN:VEVENT
UID:43bb607b-c12c-4556-ad81-5e36531f4d58@www.dsofuneral.com
DTSTAMP:20260423T003752Z
DTSTART:20260501T200000Z
DTEND:20260501T210000Z
SUMMARY:Prayer Service
DESCRIPTION:
URL:https://www.dsofuneral.com/obituaries/bernadine-morris
LOCATION: 401 W Main St  Waterville MN 56096
GEO:44.2187579;-93.5740329
END:VEVENT
END:VCALENDAR