BEGIN:VCALENDAR
VERSION:2.0
PRODID:-//Tukios.com/
BEGIN:VEVENT
UID:63569a66-77a5-44e2-9b81-e675a9fb7a43@www.dsofuneral.com
DTSTAMP:20260423T004150Z
DTSTART:20260501T180000Z
DTEND:20260501T200000Z
SUMMARY:Visitation
DESCRIPTION:
URL:https://www.dsofuneral.com/obituaries/bernadine-morris
LOCATION: 401 W Main St  Waterville MN 56096
GEO:44.2187579;-93.5740329
END:VEVENT
END:VCALENDAR