BEGIN:VCALENDAR
VERSION:2.0
PRODID:-//Tukios.com/
BEGIN:VEVENT
UID:8bcac206-ddbc-444b-a82a-37b3f1dd28b4@www.dsofuneral.com
DTSTAMP:20260425T040434Z
DTSTART:20260430
SUMMARY:Burial
DESCRIPTION:
URL:https://www.dsofuneral.com/obituaries/andrew-andy-arnoldt
LOCATION:   Janesville MN 56048
GEO:44.1161857;-93.7077397
END:VEVENT
END:VCALENDAR