BEGIN:VCALENDAR
VERSION:2.0
PRODID:-//Tukios.com/
BEGIN:VEVENT
UID:546ba42c-e7f6-406d-a929-97c095d9406d@www.dsofuneral.com
DTSTAMP:20260425T040116Z
DTSTART:20260430T160000Z
DTEND:20260430T170000Z
SUMMARY:Funeral Service
DESCRIPTION:
URL:https://www.dsofuneral.com/obituaries/andrew-andy-arnoldt
LOCATION: 7367 360th Ave  Waseca MN 56093
GEO:44.0822281;-93.617155
END:VEVENT
END:VCALENDAR