BEGIN:VCALENDAR
VERSION:2.0
PRODID:-//Tukios.com/
BEGIN:VEVENT
UID:7797ab0f-f9bb-4b14-8538-a6f383534d3c@www.dsofuneral.com
DTSTAMP:20260425T040457Z
DTSTART:20260429T200000Z
DTEND:20260430T000000Z
SUMMARY:Visitation
DESCRIPTION:
URL:https://www.dsofuneral.com/obituaries/andrew-andy-arnoldt
LOCATION:Farmamerica: MN Agricultural Interpretive Center 7367 360th Ave  
	Waseca MN 56093
GEO:44.0822281;-93.617155
END:VEVENT
END:VCALENDAR